BEGIN:VCALENDAR
VERSION:2.0
PRODID:-//Bayou Recovery Area of Narcotics Anonymous - ECPv6.15.15//NONSGML v1.0//EN
CALSCALE:GREGORIAN
METHOD:PUBLISH
X-WR-CALNAME:Bayou Recovery Area of Narcotics Anonymous
X-ORIGINAL-URL:https://br-na.org
X-WR-CALDESC:Events for Bayou Recovery Area of Narcotics Anonymous
REFRESH-INTERVAL;VALUE=DURATION:PT1H
X-Robots-Tag:noindex
X-PUBLISHED-TTL:PT1H
BEGIN:VTIMEZONE
TZID:America/Chicago
BEGIN:DAYLIGHT
TZOFFSETFROM:-0600
TZOFFSETTO:-0500
TZNAME:CDT
DTSTART:20240310T080000
END:DAYLIGHT
BEGIN:STANDARD
TZOFFSETFROM:-0500
TZOFFSETTO:-0600
TZNAME:CST
DTSTART:20241103T070000
END:STANDARD
BEGIN:DAYLIGHT
TZOFFSETFROM:-0600
TZOFFSETTO:-0500
TZNAME:CDT
DTSTART:20250309T080000
END:DAYLIGHT
BEGIN:STANDARD
TZOFFSETFROM:-0500
TZOFFSETTO:-0600
TZNAME:CST
DTSTART:20251102T070000
END:STANDARD
BEGIN:DAYLIGHT
TZOFFSETFROM:-0600
TZOFFSETTO:-0500
TZNAME:CDT
DTSTART:20260308T080000
END:DAYLIGHT
BEGIN:STANDARD
TZOFFSETFROM:-0500
TZOFFSETTO:-0600
TZNAME:CST
DTSTART:20261101T070000
END:STANDARD
END:VTIMEZONE
BEGIN:VEVENT
DTSTART;TZID=America/Chicago:20251231T230000
DTEND;TZID=America/Chicago:20251231T233000
DTSTAMP:20260420T122701
CREATED:20250720T014024Z
LAST-MODIFIED:20250720T014024Z
UID:10000182-1767222000-1767223800@br-na.org
SUMMARY:LRCNA New Years Eve Convention Fundraiser Raffle Ticket Package
DESCRIPTION:
URL:https://br-na.org/event/lrcna-new-years-eve-convention-fundraiser-raffle-ticket-package/
LOCATION:St Charles Baptist Church\, 583 Broadway Street\, New Orleans\, LA\, 70118\, United States
END:VEVENT
END:VCALENDAR