BEGIN:VCALENDAR
VERSION:2.0
PRODID:-//Bayou Recovery Area of Narcotics Anonymous - ECPv6.15.15//NONSGML v1.0//EN
CALSCALE:GREGORIAN
METHOD:PUBLISH
X-WR-CALNAME:Bayou Recovery Area of Narcotics Anonymous
X-ORIGINAL-URL:https://br-na.org
X-WR-CALDESC:Events for Bayou Recovery Area of Narcotics Anonymous
REFRESH-INTERVAL;VALUE=DURATION:PT1H
X-Robots-Tag:noindex
X-PUBLISHED-TTL:PT1H
BEGIN:VTIMEZONE
TZID:America/Chicago
BEGIN:DAYLIGHT
TZOFFSETFROM:-0600
TZOFFSETTO:-0500
TZNAME:CDT
DTSTART:20230312T080000
END:DAYLIGHT
BEGIN:STANDARD
TZOFFSETFROM:-0500
TZOFFSETTO:-0600
TZNAME:CST
DTSTART:20231105T070000
END:STANDARD
BEGIN:DAYLIGHT
TZOFFSETFROM:-0600
TZOFFSETTO:-0500
TZNAME:CDT
DTSTART:20240310T080000
END:DAYLIGHT
BEGIN:STANDARD
TZOFFSETFROM:-0500
TZOFFSETTO:-0600
TZNAME:CST
DTSTART:20241103T070000
END:STANDARD
BEGIN:DAYLIGHT
TZOFFSETFROM:-0600
TZOFFSETTO:-0500
TZNAME:CDT
DTSTART:20250309T080000
END:DAYLIGHT
BEGIN:STANDARD
TZOFFSETFROM:-0500
TZOFFSETTO:-0600
TZNAME:CST
DTSTART:20251102T070000
END:STANDARD
BEGIN:DAYLIGHT
TZOFFSETFROM:-0600
TZOFFSETTO:-0500
TZNAME:CDT
DTSTART:20260308T080000
END:DAYLIGHT
BEGIN:STANDARD
TZOFFSETFROM:-0500
TZOFFSETTO:-0600
TZNAME:CST
DTSTART:20261101T070000
END:STANDARD
END:VTIMEZONE
BEGIN:VEVENT
DTSTART;TZID=America/Chicago:20251031T183000
DTEND;TZID=America/Chicago:20251031T230000
DTSTAMP:20260420T192730
CREATED:20250720T013444Z
LAST-MODIFIED:20250720T013444Z
UID:10000176-1761935400-1761951600@br-na.org
SUMMARY:Region Halloween Party Convention Fundraiser
DESCRIPTION:
URL:https://br-na.org/event/region-halloween-party-convention-fundraiser/
LOCATION:St Charles Baptist Church\, 583 Broadway Street\, New Orleans\, LA\, 70118\, United States
END:VEVENT
BEGIN:VEVENT
DTSTART;TZID=America/Chicago:20251026T153000
DTEND;TZID=America/Chicago:20251026T170000
DTSTAMP:20260420T192730
CREATED:20250823T204100Z
LAST-MODIFIED:20250825T162417Z
UID:10000186-1761492600-1761498000@br-na.org
SUMMARY:Area Service Committee Meeting
DESCRIPTION:
URL:https://br-na.org/event/area-service-committee-meeting-22/
LOCATION:Grace Baptist Church\, 630 Richland Avenue\, Baton Rouge\, LA\, 70806\, United States
END:VEVENT
BEGIN:VEVENT
DTSTART;VALUE=DATE:20251024
DTEND;VALUE=DATE:20251027
DTSTAMP:20260420T192730
CREATED:20250810T210153Z
LAST-MODIFIED:20250810T210153Z
UID:10000184-1761264000-1761523199@br-na.org
SUMMARY:Moonlight Madness Campout
DESCRIPTION:
URL:https://br-na.org/event/moonlight-madness-campout-2/
LOCATION:Fountainbleu State Park\, 62883 LA - 1089\, Mandeville\, LA\, 70448\, United States
END:VEVENT
BEGIN:VEVENT
DTSTART;TZID=America/Chicago:20251022T190000
DTEND;TZID=America/Chicago:20251022T200000
DTSTAMP:20260420T192730
CREATED:20250720T011947Z
LAST-MODIFIED:20250720T012443Z
UID:10000168-1761159600-1761163200@br-na.org
SUMMARY:LRCNA XLII Program Committee Mtgs via Zoom
DESCRIPTION:
URL:https://br-na.org/event/lrcna-xlii-program-committee-mtgs-via-zoom/2025-10-22/
LOCATION:Mtg Id: 6986865754 Pass hopeshot\, United States
END:VEVENT
BEGIN:VEVENT
DTSTART;TZID=America/Chicago:20250928T153000
DTEND;TZID=America/Chicago:20250928T170000
DTSTAMP:20260420T192730
CREATED:20250127T224616Z
LAST-MODIFIED:20250825T162439Z
UID:10000156-1759073400-1759078800@br-na.org
SUMMARY:Area Service Committee Meeting
DESCRIPTION:
URL:https://br-na.org/event/area-service-committee-meeting-21/
LOCATION:Grace Baptist Church\, 630 Richland Avenue\, Baton Rouge\, LA\, 70806\, United States
END:VEVENT
BEGIN:VEVENT
DTSTART;TZID=America/Chicago:20250927T130000
DTEND;TZID=America/Chicago:20250927T170000
DTSTAMP:20260420T192730
CREATED:20250810T210535Z
LAST-MODIFIED:20250810T210557Z
UID:10000185-1758978000-1758992400@br-na.org
SUMMARY:Gumbo Cook-Off
DESCRIPTION:
URL:https://br-na.org/event/gumbo-cook-off/
LOCATION:Way Christian Center\, 45418 Durbin Rd\, Hammond\, LA\, 70401\, United States
END:VEVENT
BEGIN:VEVENT
DTSTART;TZID=America/Chicago:20250924T190000
DTEND;TZID=America/Chicago:20250924T200000
DTSTAMP:20260420T192730
CREATED:20250720T011947Z
LAST-MODIFIED:20250720T012443Z
UID:10000167-1758740400-1758744000@br-na.org
SUMMARY:LRCNA XLII Program Committee Mtgs via Zoom
DESCRIPTION:
URL:https://br-na.org/event/lrcna-xlii-program-committee-mtgs-via-zoom/2025-09-24/
LOCATION:Mtg Id: 6986865754 Pass hopeshot\, United States
END:VEVENT
BEGIN:VEVENT
DTSTART;TZID=America/Chicago:20250913T190000
DTEND;TZID=America/Chicago:20250913T220000
DTSTAMP:20260420T192730
CREATED:20250629T210515Z
LAST-MODIFIED:20250629T210515Z
UID:10000162-1757790000-1757800800@br-na.org
SUMMARY:GBR 3rd Annual Sneaker Ball
DESCRIPTION:
URL:https://br-na.org/event/gbr-3rd-annual-sneaker-ball/
LOCATION:MLK Center\, 4000 Gus Young Ave\, Baton Rouge\, LA\, 70802\, United States
END:VEVENT
BEGIN:VEVENT
DTSTART;VALUE=DATE:20250906
DTEND;VALUE=DATE:20250907
DTSTAMP:20260420T192730
CREATED:20250720T012817Z
LAST-MODIFIED:20250720T012929Z
UID:10000175-1757116800-1757203199@br-na.org
SUMMARY:NA World Unity Day
DESCRIPTION:NA World Unity Day 2025
URL:https://br-na.org/event/na-world-unity-day/
LOCATION:na.org/annualevents\, NA World Website
END:VEVENT
BEGIN:VEVENT
DTSTART;TZID=America/Chicago:20250827T190000
DTEND;TZID=America/Chicago:20250827T200000
DTSTAMP:20260420T192730
CREATED:20250720T011947Z
LAST-MODIFIED:20250720T012443Z
UID:10000166-1756321200-1756324800@br-na.org
SUMMARY:LRCNA XLII Program Committee Mtgs via Zoom
DESCRIPTION:
URL:https://br-na.org/event/lrcna-xlii-program-committee-mtgs-via-zoom/2025-08-27/
LOCATION:Mtg Id: 6986865754 Pass hopeshot\, United States
END:VEVENT
BEGIN:VEVENT
DTSTART;TZID=America/Chicago:20250824T140000
DTEND;TZID=America/Chicago:20250824T160000
DTSTAMP:20260420T192730
CREATED:20250127T224533Z
LAST-MODIFIED:20250127T224533Z
UID:10000155-1756044000-1756051200@br-na.org
SUMMARY:Area Service Committee Meeting
DESCRIPTION:
URL:https://br-na.org/event/area-service-committee-meeting-20/
LOCATION:Grace Baptist Church\, 630 Richland Avenue\, Baton Rouge\, LA\, 70806\, United States
END:VEVENT
BEGIN:VEVENT
DTSTART;TZID=America/Chicago:20250802T120000
DTEND;TZID=America/Chicago:20250802T200000
DTSTAMP:20260420T192730
CREATED:20250629T210658Z
LAST-MODIFIED:20250629T210658Z
UID:10000163-1754136000-1754164800@br-na.org
SUMMARY:GBR Fish Fry Speaker Jam
DESCRIPTION:
URL:https://br-na.org/event/gbr-fish-fry-speaker-jam/
LOCATION:MLK Center\, 4000 Gus Young Ave\, Baton Rouge\, LA\, 70802\, United States
END:VEVENT
BEGIN:VEVENT
DTSTART;TZID=America/Chicago:20250727T140000
DTEND;TZID=America/Chicago:20250727T160000
DTSTAMP:20260420T192730
CREATED:20250127T224447Z
LAST-MODIFIED:20250127T224447Z
UID:10000154-1753624800-1753632000@br-na.org
SUMMARY:Area Service Committee Meeting
DESCRIPTION:
URL:https://br-na.org/event/area-service-committee-meeting-19/
LOCATION:Grace Baptist Church\, 630 Richland Avenue\, Baton Rouge\, LA\, 70806\, United States
END:VEVENT
BEGIN:VEVENT
DTSTART;VALUE=DATE:20250724
DTEND;VALUE=DATE:20250728
DTSTAMP:20260420T192730
CREATED:20250720T023729Z
LAST-MODIFIED:20250720T023729Z
UID:10000183-1753315200-1753660799@br-na.org
SUMMARY:NOACNA Convention
DESCRIPTION:
URL:https://br-na.org/event/noacna-convention/
LOCATION:New Orleans Hilton Riverside\, 2 Poydras Street\, New Orleans\, LA\, 70130\, United States
END:VEVENT
BEGIN:VEVENT
DTSTART;TZID=America/Chicago:20250723T190000
DTEND;TZID=America/Chicago:20250723T200000
DTSTAMP:20260420T192730
CREATED:20250720T011947Z
LAST-MODIFIED:20250720T012443Z
UID:10000165-1753297200-1753300800@br-na.org
SUMMARY:LRCNA XLII Program Committee Mtgs via Zoom
DESCRIPTION:
URL:https://br-na.org/event/lrcna-xlii-program-committee-mtgs-via-zoom/2025-07-23/
LOCATION:Mtg Id: 6986865754 Pass hopeshot\, United States
END:VEVENT
BEGIN:VEVENT
DTSTART;TZID=America/Chicago:20250719T173000
DTEND;TZID=America/Chicago:20250719T190000
DTSTAMP:20260420T192730
CREATED:20250630T195457Z
LAST-MODIFIED:20250630T195457Z
UID:10000164-1752946200-1752951600@br-na.org
SUMMARY:H & I Training Day
DESCRIPTION:
URL:https://br-na.org/event/h-i-training-day/
LOCATION:Grace Baptist Church\, 630 Richland Avenue\, Baton Rouge\, LA\, 70806\, United States
END:VEVENT
BEGIN:VEVENT
DTSTART;TZID=America/Chicago:20250622T140000
DTEND;TZID=America/Chicago:20250622T160000
DTSTAMP:20260420T192730
CREATED:20250127T224402Z
LAST-MODIFIED:20250127T224402Z
UID:10000153-1750600800-1750608000@br-na.org
SUMMARY:Area Service Committee Meeting
DESCRIPTION:
URL:https://br-na.org/event/area-service-committee-meeting-18/
LOCATION:Grace Baptist Church\, 630 Richland Avenue\, Baton Rouge\, LA\, 70806\, United States
END:VEVENT
BEGIN:VEVENT
DTSTART;TZID=America/Chicago:20250525T140000
DTEND;TZID=America/Chicago:20250525T160000
DTSTAMP:20260420T192730
CREATED:20250127T224254Z
LAST-MODIFIED:20250127T224254Z
UID:10000152-1748181600-1748188800@br-na.org
SUMMARY:Area Service Committee Meeting
DESCRIPTION:
URL:https://br-na.org/event/area-service-committee-meeting-17/
LOCATION:Grace Baptist Church\, 630 Richland Avenue\, Baton Rouge\, LA\, 70806\, United States
END:VEVENT
BEGIN:VEVENT
DTSTART;VALUE=DATE:20250523
DTEND;VALUE=DATE:20250526
DTSTAMP:20260420T192730
CREATED:20250319T011504Z
LAST-MODIFIED:20250319T011504Z
UID:10000159-1747958400-1748217599@br-na.org
SUMMARY:Lone Star Regional Service Office Literature Sale- Order in Advance\, pick up in person and pay no shipping!
DESCRIPTION:
URL:https://br-na.org/event/lone-star-regional-service-office-literature-sale-order-in-advance-pick-up-in-person-and-pay-no-shipping/
LOCATION:Baton Rouge Mariott\, 5500 Hilton Ave\, Baton Rouge\, LA\, 70808\, United States
END:VEVENT
BEGIN:VEVENT
DTSTART;TZID=America/Chicago:20250427T140000
DTEND;TZID=America/Chicago:20250427T160000
DTSTAMP:20260420T192730
CREATED:20250127T224211Z
LAST-MODIFIED:20250127T224211Z
UID:10000151-1745762400-1745769600@br-na.org
SUMMARY:Area Service Committee Meeting
DESCRIPTION:
URL:https://br-na.org/event/area-service-committee-meeting-16/
LOCATION:Grace Baptist Church\, 630 Richland Avenue\, Baton Rouge\, LA\, 70806\, United States
END:VEVENT
BEGIN:VEVENT
DTSTART;TZID=America/Chicago:20250412T110000
DTEND;TZID=America/Chicago:20250412T150000
DTSTAMP:20260420T192730
CREATED:20250302T192537Z
LAST-MODIFIED:20250302T192537Z
UID:10000157-1744455600-1744470000@br-na.org
SUMMARY:Unity Day Highland Rd Park
DESCRIPTION:
URL:https://br-na.org/event/unity-day-highland-rd-park/
LOCATION:Highland Road Community Park Pavillion\, 14024 Highland Road\, Baton Rouge\, LA\, 70810\, United States
END:VEVENT
BEGIN:VEVENT
DTSTART;TZID=America/Chicago:20250327T180000
DTEND;TZID=America/Chicago:20250327T200000
DTSTAMP:20260420T192730
CREATED:20250319T012007Z
LAST-MODIFIED:20250319T012007Z
UID:10000160-1743098400-1743105600@br-na.org
SUMMARY:Regional Fellowship Development Meeting
DESCRIPTION:
URL:https://br-na.org/event/regional-fellowship-development-meeting/
LOCATION:Zoom Meeting\, Mtg: 2867201584\, Pass: fellowship
END:VEVENT
BEGIN:VEVENT
DTSTART;TZID=America/Chicago:20250323T140000
DTEND;TZID=America/Chicago:20250323T180000
DTSTAMP:20260420T192730
CREATED:20250319T011043Z
LAST-MODIFIED:20250319T011108Z
UID:10000158-1742738400-1742752800@br-na.org
SUMMARY:Brown Bag Group Celebration- From the Streets to the Seats
DESCRIPTION:
URL:https://br-na.org/event/brown-bag-group-celebration-from-the-streets-to-the-seats/
LOCATION:2112 Carmel Drive\, 2112 Carmel Dr\, Lafayette\, LA\, 70501
END:VEVENT
BEGIN:VEVENT
DTSTART;TZID=America/Chicago:20250323T140000
DTEND;TZID=America/Chicago:20250323T160000
DTSTAMP:20260420T192730
CREATED:20250127T222630Z
LAST-MODIFIED:20250127T222630Z
UID:10000150-1742738400-1742745600@br-na.org
SUMMARY:Area Service Committee Meeting
DESCRIPTION:
URL:https://br-na.org/event/area-service-committee-meeting-15/
LOCATION:Grace Baptist Church\, 630 Richland Avenue\, Baton Rouge\, LA\, 70806\, United States
END:VEVENT
BEGIN:VEVENT
DTSTART;TZID=America/Chicago:20250223T140000
DTEND;TZID=America/Chicago:20250223T160000
DTSTAMP:20260420T192730
CREATED:20250127T222123Z
LAST-MODIFIED:20250127T222123Z
UID:10000149-1740319200-1740326400@br-na.org
SUMMARY:Area Service Committee Meeting
DESCRIPTION:
URL:https://br-na.org/event/area-service-committee-meeting-14/
LOCATION:Grace Baptist Church\, 630 Richland Avenue\, Baton Rouge\, LA\, 70806\, United States
END:VEVENT
BEGIN:VEVENT
DTSTART;TZID=America/Chicago:20241222T140000
DTEND;TZID=America/Chicago:20241222T153000
DTSTAMP:20260420T192730
CREATED:20231228T153219Z
LAST-MODIFIED:20231228T153219Z
UID:10000016-1734876000-1734881400@br-na.org
SUMMARY:Area Service Committee Meeting
DESCRIPTION:
URL:https://br-na.org/event/area-service-committee-meeting-13/
LOCATION:Grace Baptist Church\, 630 Richland Avenue\, Baton Rouge\, LA\, 70806\, United States
END:VEVENT
BEGIN:VEVENT
DTSTART;TZID=America/Chicago:20241124T140000
DTEND;TZID=America/Chicago:20241124T153000
DTSTAMP:20260420T192730
CREATED:20231228T153124Z
LAST-MODIFIED:20231228T153124Z
UID:10000015-1732456800-1732462200@br-na.org
SUMMARY:Area Service Committee Meeting
DESCRIPTION:
URL:https://br-na.org/event/area-service-committee-meeting-12/
LOCATION:Grace Baptist Church\, 630 Richland Avenue\, Baton Rouge\, LA\, 70806\, United States
END:VEVENT
BEGIN:VEVENT
DTSTART;TZID=America/Chicago:20241027T140000
DTEND;TZID=America/Chicago:20241027T153000
DTSTAMP:20260420T192730
CREATED:20231228T152941Z
LAST-MODIFIED:20231228T152941Z
UID:10000014-1730037600-1730043000@br-na.org
SUMMARY:Area Service Committee Meeting
DESCRIPTION:
URL:https://br-na.org/event/area-service-committee-meeting-11/
LOCATION:Grace Baptist Church\, 630 Richland Avenue\, Baton Rouge\, LA\, 70806\, United States
END:VEVENT
BEGIN:VEVENT
DTSTART;VALUE=DATE:20241025
DTEND;VALUE=DATE:20241028
DTSTAMP:20260420T192730
CREATED:20241006T005233Z
LAST-MODIFIED:20241006T005233Z
UID:10000148-1729814400-1730073599@br-na.org
SUMMARY:Moonlight Madness Campout
DESCRIPTION:
URL:https://br-na.org/event/moonlight-madness-campout/
LOCATION:Tickfaw State Park\, 27225 Patterson Rd\, Springfield\, LA\, 70462\, United States
END:VEVENT
BEGIN:VEVENT
DTSTART;TZID=America/Chicago:20240922T140000
DTEND;TZID=America/Chicago:20240922T153000
DTSTAMP:20260420T192730
CREATED:20231228T152755Z
LAST-MODIFIED:20231228T152755Z
UID:10000013-1727013600-1727019000@br-na.org
SUMMARY:Area Service Committee Meeting
DESCRIPTION:
URL:https://br-na.org/event/area-service-committee-meeting-10/
LOCATION:Grace Baptist Church\, 630 Richland Avenue\, Baton Rouge\, LA\, 70806\, United States
END:VEVENT
END:VCALENDAR