BEGIN:VCALENDAR
VERSION:2.0
PRODID:-//Bayou Recovery Area of Narcotics Anonymous - ECPv6.15.15//NONSGML v1.0//EN
CALSCALE:GREGORIAN
METHOD:PUBLISH
X-ORIGINAL-URL:https://br-na.org
X-WR-CALDESC:Events for Bayou Recovery Area of Narcotics Anonymous
REFRESH-INTERVAL;VALUE=DURATION:PT1H
X-Robots-Tag:noindex
X-PUBLISHED-TTL:PT1H
BEGIN:VTIMEZONE
TZID:America/Chicago
BEGIN:DAYLIGHT
TZOFFSETFROM:-0600
TZOFFSETTO:-0500
TZNAME:CDT
DTSTART:20250309T080000
END:DAYLIGHT
BEGIN:STANDARD
TZOFFSETFROM:-0500
TZOFFSETTO:-0600
TZNAME:CST
DTSTART:20251102T070000
END:STANDARD
BEGIN:DAYLIGHT
TZOFFSETFROM:-0600
TZOFFSETTO:-0500
TZNAME:CDT
DTSTART:20260308T080000
END:DAYLIGHT
BEGIN:STANDARD
TZOFFSETFROM:-0500
TZOFFSETTO:-0600
TZNAME:CST
DTSTART:20261101T070000
END:STANDARD
BEGIN:DAYLIGHT
TZOFFSETFROM:-0600
TZOFFSETTO:-0500
TZNAME:CDT
DTSTART:20270314T080000
END:DAYLIGHT
BEGIN:STANDARD
TZOFFSETFROM:-0500
TZOFFSETTO:-0600
TZNAME:CST
DTSTART:20271107T070000
END:STANDARD
END:VTIMEZONE
BEGIN:VEVENT
DTSTART;VALUE=DATE:20260101
DTEND;VALUE=DATE:20260521
DTSTAMP:20260420T212135
CREATED:20250720T013754Z
LAST-MODIFIED:20250720T013811Z
UID:10000177-1767225600-1779321599@br-na.org
SUMMARY:LRCNA XLII CONVENTION REGISTRATION
DESCRIPTION:
URL:https://br-na.org/event/lrcna-xlii-convention-registration/2026-01-01/
LOCATION:Doubletree Hilton New Orleans\, 300 Canal Street\, New Orleans\, LA\, 70130\, United States
END:VEVENT
BEGIN:VEVENT
DTSTART;VALUE=DATE:20260205
DTEND;VALUE=DATE:20260625
DTSTAMP:20260420T212135
CREATED:20250720T013754Z
LAST-MODIFIED:20250720T013811Z
UID:10000178-1770249600-1782345599@br-na.org
SUMMARY:LRCNA XLII CONVENTION REGISTRATION
DESCRIPTION:
URL:https://br-na.org/event/lrcna-xlii-convention-registration/2026-02-05/
LOCATION:Doubletree Hilton New Orleans\, 300 Canal Street\, New Orleans\, LA\, 70130\, United States
END:VEVENT
BEGIN:VEVENT
DTSTART;VALUE=DATE:20260305
DTEND;VALUE=DATE:20260723
DTSTAMP:20260420T212135
CREATED:20250720T013754Z
LAST-MODIFIED:20250720T013811Z
UID:10000179-1772668800-1784764799@br-na.org
SUMMARY:LRCNA XLII CONVENTION REGISTRATION
DESCRIPTION:
URL:https://br-na.org/event/lrcna-xlii-convention-registration/2026-03-05/
LOCATION:Doubletree Hilton New Orleans\, 300 Canal Street\, New Orleans\, LA\, 70130\, United States
END:VEVENT
BEGIN:VEVENT
DTSTART;VALUE=DATE:20260402
DTEND;VALUE=DATE:20260820
DTSTAMP:20260420T212135
CREATED:20250720T013754Z
LAST-MODIFIED:20250720T013811Z
UID:10000180-1775088000-1787180399@br-na.org
SUMMARY:LRCNA XLII CONVENTION REGISTRATION
DESCRIPTION:
URL:https://br-na.org/event/lrcna-xlii-convention-registration/2026-04-02/
LOCATION:Doubletree Hilton New Orleans\, 300 Canal Street\, New Orleans\, LA\, 70130\, United States
END:VEVENT
BEGIN:VEVENT
DTSTART;TZID=America/Chicago:20260411T120000
DTEND;TZID=America/Chicago:20260411T160000
DTSTAMP:20260420T212135
CREATED:20260201T211228Z
LAST-MODIFIED:20260201T211228Z
UID:10000208-1775908800-1775923200@br-na.org
SUMMARY:Unity Day In the Park
DESCRIPTION:
URL:https://br-na.org/event/unity-day-in-the-park/
LOCATION:Highland Road Community Park Pavillion\, 14024 Highland Road\, Baton Rouge\, LA\, 70810\, United States
END:VEVENT
BEGIN:VEVENT
DTSTART;TZID=America/Chicago:20260422T190000
DTEND;TZID=America/Chicago:20260422T200000
DTSTAMP:20260420T212135
CREATED:20250720T011947Z
LAST-MODIFIED:20250720T012443Z
UID:10000174-1776884400-1776888000@br-na.org
SUMMARY:LRCNA XLII Program Committee Mtgs via Zoom
DESCRIPTION:
URL:https://br-na.org/event/lrcna-xlii-program-committee-mtgs-via-zoom/2026-04-22/
LOCATION:Mtg Id: 6986865754 Pass hopeshot\, United States
END:VEVENT
BEGIN:VEVENT
DTSTART;TZID=America/Chicago:20260426T153000
DTEND;TZID=America/Chicago:20260426T170000
DTSTAMP:20260420T212135
CREATED:20251228T232106Z
LAST-MODIFIED:20251228T232106Z
UID:10000194-1777217400-1777222800@br-na.org
SUMMARY:Area Service Committee Meeting
DESCRIPTION:
URL:https://br-na.org/event/area-service-committee-meeting-28/
LOCATION:Grace Baptist Church\, 630 Richland Avenue\, Baton Rouge\, LA\, 70806\, United States
END:VEVENT
BEGIN:VEVENT
DTSTART;VALUE=DATE:20260507
DTEND;VALUE=DATE:20260924
DTSTAMP:20260420T212135
CREATED:20250720T013754Z
LAST-MODIFIED:20250720T013811Z
UID:10000181-1778112000-1790204399@br-na.org
SUMMARY:LRCNA XLII CONVENTION REGISTRATION
DESCRIPTION:
URL:https://br-na.org/event/lrcna-xlii-convention-registration/2026-05-07/
LOCATION:Doubletree Hilton New Orleans\, 300 Canal Street\, New Orleans\, LA\, 70130\, United States
END:VEVENT
BEGIN:VEVENT
DTSTART;TZID=America/Chicago:20260522T174500
DTEND;TZID=America/Chicago:20260522T194500
DTSTAMP:20260420T212135
CREATED:20260105T162131Z
LAST-MODIFIED:20260105T162131Z
UID:10000205-1779471900-1779479100@br-na.org
SUMMARY:LRCNA Meet & Greet Banquet
DESCRIPTION:Banquet
URL:https://br-na.org/event/lrcna-meet-greet-banquet/
LOCATION:Doubletree Hilton New Orleans\, 300 Canal Street\, New Orleans\, LA\, 70130\, United States
END:VEVENT
BEGIN:VEVENT
DTSTART;TZID=America/Chicago:20260524T153000
DTEND;TZID=America/Chicago:20260524T170000
DTSTAMP:20260420T212135
CREATED:20251228T232146Z
LAST-MODIFIED:20251228T232146Z
UID:10000195-1779636600-1779642000@br-na.org
SUMMARY:Area Service Committee Meeting
DESCRIPTION:
URL:https://br-na.org/event/area-service-committee-meeting-29/
LOCATION:Grace Baptist Church\, 630 Richland Avenue\, Baton Rouge\, LA\, 70806\, United States
END:VEVENT
BEGIN:VEVENT
DTSTART;TZID=America/Chicago:20260628T153000
DTEND;TZID=America/Chicago:20260628T170000
DTSTAMP:20260420T212135
CREATED:20251228T232224Z
LAST-MODIFIED:20251228T232224Z
UID:10000196-1782660600-1782666000@br-na.org
SUMMARY:Area Service Committee Meeting
DESCRIPTION:
URL:https://br-na.org/event/area-service-committee-meeting-30/
LOCATION:Grace Baptist Church\, 630 Richland Avenue\, Baton Rouge\, LA\, 70806\, United States
END:VEVENT
BEGIN:VEVENT
DTSTART;TZID=America/Chicago:20260726T153000
DTEND;TZID=America/Chicago:20260726T170000
DTSTAMP:20260420T212135
CREATED:20251228T232549Z
LAST-MODIFIED:20251228T232549Z
UID:10000197-1785079800-1785085200@br-na.org
SUMMARY:Area Service Committee Meeting
DESCRIPTION:
URL:https://br-na.org/event/area-service-committee-meeting-31/
LOCATION:Grace Baptist Church\, 630 Richland Avenue\, Baton Rouge\, LA\, 70806\, United States
END:VEVENT
BEGIN:VEVENT
DTSTART;TZID=America/Chicago:20260823T153000
DTEND;TZID=America/Chicago:20260823T170000
DTSTAMP:20260420T212135
CREATED:20251228T232628Z
LAST-MODIFIED:20251228T232628Z
UID:10000198-1787499000-1787504400@br-na.org
SUMMARY:Area Service Committee Meeting
DESCRIPTION:
URL:https://br-na.org/event/area-service-committee-meeting-32/
LOCATION:Grace Baptist Church\, 630 Richland Avenue\, Baton Rouge\, LA\, 70806\, United States
END:VEVENT
BEGIN:VEVENT
DTSTART;TZID=America/Chicago:20260927T153000
DTEND;TZID=America/Chicago:20260927T170000
DTSTAMP:20260420T212135
CREATED:20251228T232707Z
LAST-MODIFIED:20251228T232707Z
UID:10000199-1790523000-1790528400@br-na.org
SUMMARY:Area Service Committee Meeting
DESCRIPTION:
URL:https://br-na.org/event/area-service-committee-meeting-33/
LOCATION:Grace Baptist Church\, 630 Richland Avenue\, Baton Rouge\, LA\, 70806\, United States
END:VEVENT
BEGIN:VEVENT
DTSTART;TZID=America/Chicago:20261025T153000
DTEND;TZID=America/Chicago:20261025T170000
DTSTAMP:20260420T212135
CREATED:20251228T232746Z
LAST-MODIFIED:20251228T232746Z
UID:10000200-1792942200-1792947600@br-na.org
SUMMARY:Area Service Committee Meeting
DESCRIPTION:
URL:https://br-na.org/event/area-service-committee-meeting-34/
LOCATION:Grace Baptist Church\, 630 Richland Avenue\, Baton Rouge\, LA\, 70806\, United States
END:VEVENT
BEGIN:VEVENT
DTSTART;TZID=America/Chicago:20261122T153000
DTEND;TZID=America/Chicago:20261122T170000
DTSTAMP:20260420T212135
CREATED:20251228T232825Z
LAST-MODIFIED:20251228T232825Z
UID:10000201-1795361400-1795366800@br-na.org
SUMMARY:Area Service Committee Meeting
DESCRIPTION:
URL:https://br-na.org/event/area-service-committee-meeting-35/
LOCATION:Grace Baptist Church\, 630 Richland Avenue\, Baton Rouge\, LA\, 70806\, United States
END:VEVENT
BEGIN:VEVENT
DTSTART;TZID=America/Chicago:20261227T153000
DTEND;TZID=America/Chicago:20261227T170000
DTSTAMP:20260420T212135
CREATED:20251228T232908Z
LAST-MODIFIED:20251228T232908Z
UID:10000202-1798385400-1798390800@br-na.org
SUMMARY:Area Service Committee Meeting
DESCRIPTION:
URL:https://br-na.org/event/area-service-committee-meeting-36/
LOCATION:Grace Baptist Church\, 630 Richland Avenue\, Baton Rouge\, LA\, 70806\, United States
END:VEVENT
END:VCALENDAR