BEGIN:VCALENDAR
VERSION:2.0
PRODID:-//Bayou Recovery Area of Narcotics Anonymous - ECPv6.15.15//NONSGML v1.0//EN
CALSCALE:GREGORIAN
METHOD:PUBLISH
X-WR-CALNAME:Bayou Recovery Area of Narcotics Anonymous
X-ORIGINAL-URL:https://br-na.org
X-WR-CALDESC:Events for Bayou Recovery Area of Narcotics Anonymous
REFRESH-INTERVAL;VALUE=DURATION:PT1H
X-Robots-Tag:noindex
X-PUBLISHED-TTL:PT1H
BEGIN:VTIMEZONE
TZID:America/Chicago
BEGIN:DAYLIGHT
TZOFFSETFROM:-0600
TZOFFSETTO:-0500
TZNAME:CDT
DTSTART:20210314T080000
END:DAYLIGHT
BEGIN:STANDARD
TZOFFSETFROM:-0500
TZOFFSETTO:-0600
TZNAME:CST
DTSTART:20211107T070000
END:STANDARD
BEGIN:DAYLIGHT
TZOFFSETFROM:-0600
TZOFFSETTO:-0500
TZNAME:CDT
DTSTART:20220313T080000
END:DAYLIGHT
BEGIN:STANDARD
TZOFFSETFROM:-0500
TZOFFSETTO:-0600
TZNAME:CST
DTSTART:20221106T070000
END:STANDARD
BEGIN:DAYLIGHT
TZOFFSETFROM:-0600
TZOFFSETTO:-0500
TZNAME:CDT
DTSTART:20230312T080000
END:DAYLIGHT
BEGIN:STANDARD
TZOFFSETFROM:-0500
TZOFFSETTO:-0600
TZNAME:CST
DTSTART:20231105T070000
END:STANDARD
BEGIN:DAYLIGHT
TZOFFSETFROM:-0600
TZOFFSETTO:-0500
TZNAME:CDT
DTSTART:20240310T080000
END:DAYLIGHT
BEGIN:STANDARD
TZOFFSETFROM:-0500
TZOFFSETTO:-0600
TZNAME:CST
DTSTART:20241103T070000
END:STANDARD
BEGIN:DAYLIGHT
TZOFFSETFROM:-0600
TZOFFSETTO:-0500
TZNAME:CDT
DTSTART:20250309T080000
END:DAYLIGHT
BEGIN:STANDARD
TZOFFSETFROM:-0500
TZOFFSETTO:-0600
TZNAME:CST
DTSTART:20251102T070000
END:STANDARD
END:VTIMEZONE
BEGIN:VEVENT
DTSTART;TZID=America/Chicago:20240622T103000
DTEND;TZID=America/Chicago:20240622T143000
DTSTAMP:20260420T195223
CREATED:20240516T130058Z
LAST-MODIFIED:20240516T130226Z
UID:10000146-1719052200-1719066600@br-na.org
SUMMARY:Pancakes\, Pamphlets and a Picture - Newcomer Summer Bash!
DESCRIPTION:
URL:https://br-na.org/event/pancakes-pamphlets-and-a-picture/
LOCATION:Grace Baptist Church\, 630 Richland Avenue\, Baton Rouge\, LA\, 70806\, United States
END:VEVENT
BEGIN:VEVENT
DTSTART;VALUE=DATE:20240524
DTEND;VALUE=DATE:20240527
DTSTAMP:20260420T195223
CREATED:20240509T150000Z
LAST-MODIFIED:20240509T150000Z
UID:10000144-1716508800-1716767999@br-na.org
SUMMARY:LRCNA Regional Convention
DESCRIPTION:
URL:https://br-na.org/event/lrcna-regional-convention/
LOCATION:Baton Rouge Mariott\, 5500 Hilton Ave\, Baton Rouge\, LA\, 70808\, United States
END:VEVENT
BEGIN:VEVENT
DTSTART;TZID=America/Chicago:20240519T140000
DTEND;TZID=America/Chicago:20240519T153000
DTSTAMP:20260420T195223
CREATED:20231228T152310Z
LAST-MODIFIED:20231228T152310Z
UID:10000009-1716127200-1716132600@br-na.org
SUMMARY:Area Service Committee Meeting
DESCRIPTION:
URL:https://br-na.org/event/area-service-committee-meeting-6/
LOCATION:Grace Baptist Church\, 630 Richland Avenue\, Baton Rouge\, LA\, 70806\, United States
END:VEVENT
BEGIN:VEVENT
DTSTART;TZID=America/Chicago:20240518T090000
DTEND;TZID=America/Chicago:20240518T140000
DTSTAMP:20260420T195223
CREATED:20240510T180432Z
LAST-MODIFIED:20240510T180432Z
UID:10000145-1716022800-1716040800@br-na.org
SUMMARY:Louisiana Recovery Community Fest
DESCRIPTION:Set up begins at 9am. Please enter through main entrance way and check in at exhibitor sign in table. Lunch and beverages provided throughout the day. Event is 11am-2pm.
URL:https://br-na.org/event/louisiana-recovery-community-fest/
LOCATION:The Grove Treatment Center\, 7384 John LeBlanc\, Sorrento\, LA\, 70778\, United States
END:VEVENT
BEGIN:VEVENT
DTSTART;TZID=America/Chicago:20240428T140000
DTEND;TZID=America/Chicago:20240428T153000
DTSTAMP:20260420T195223
CREATED:20231228T152103Z
LAST-MODIFIED:20231228T152103Z
UID:10000008-1714312800-1714318200@br-na.org
SUMMARY:Area Service Committee Meeting
DESCRIPTION:
URL:https://br-na.org/event/area-service-committee-meeting-5/
LOCATION:Grace Baptist Church\, 630 Richland Avenue\, Baton Rouge\, LA\, 70806\, United States
END:VEVENT
BEGIN:VEVENT
DTSTART;TZID=America/Chicago:20240427T110000
DTEND;TZID=America/Chicago:20240427T170000
DTSTAMP:20260420T195223
CREATED:20240226T021425Z
LAST-MODIFIED:20240226T021425Z
UID:10000138-1714215600-1714237200@br-na.org
SUMMARY:CENLA NA Convention Fundraiser
DESCRIPTION:
URL:https://br-na.org/event/cenla-na-convention-fundraiser/
LOCATION:CENLA Clubhouse\, 701 Veterans Ave\, Alexandria\, Louisiana\, 71301
END:VEVENT
BEGIN:VEVENT
DTSTART;TZID=America/Chicago:20240414T120000
DTEND;TZID=America/Chicago:20240414T160000
DTSTAMP:20260420T195223
CREATED:20240405T163938Z
LAST-MODIFIED:20240405T163938Z
UID:10000143-1713096000-1713110400@br-na.org
SUMMARY:Bayou Area Unity Day
DESCRIPTION:
URL:https://br-na.org/event/bayou-area-unity-day/
LOCATION:Highland Road Community Park Pavillion\, 14024 Highland Road\, Baton Rouge\, LA\, 70810\, United States
END:VEVENT
BEGIN:VEVENT
DTSTART;TZID=America/Chicago:20240407T080000
DTEND;TZID=America/Chicago:20240407T150000
DTSTAMP:20260420T195223
CREATED:20240313T224633Z
LAST-MODIFIED:20240313T225032Z
UID:10000141-1712476800-1712502000@br-na.org
SUMMARY:LRCNA Region Service Committee Meeting April 2024
DESCRIPTION:
URL:https://br-na.org/event/lrcna-region-meeting-april-2024/2024-04-07/
LOCATION:BREC Independence Park\, 7500 Independence Blvd\, Baton Rouge\, LA\, United States
END:VEVENT
BEGIN:VEVENT
DTSTART;TZID=America/Chicago:20240406T180000
DTEND;TZID=America/Chicago:20240406T220000
DTSTAMP:20260420T195223
CREATED:20240313T224835Z
LAST-MODIFIED:20240313T224835Z
UID:10000140-1712426400-1712440800@br-na.org
SUMMARY:Region Saturday Night Special Event
DESCRIPTION:
URL:https://br-na.org/event/region-saturday-night-special-event/
LOCATION:Grace Baptist Church\, 630 Richland Avenue\, Baton Rouge\, LA\, 70806\, United States
END:VEVENT
BEGIN:VEVENT
DTSTART;TZID=America/Chicago:20240406T080000
DTEND;TZID=America/Chicago:20240406T150000
DTSTAMP:20260420T195223
CREATED:20240313T224633Z
LAST-MODIFIED:20240313T225032Z
UID:10000139-1712390400-1712415600@br-na.org
SUMMARY:LRCNA Region Service Committee Meeting April 2024
DESCRIPTION:
URL:https://br-na.org/event/lrcna-region-meeting-april-2024/2024-04-06/
LOCATION:BREC Independence Park\, 7500 Independence Blvd\, Baton Rouge\, LA\, United States
END:VEVENT
BEGIN:VEVENT
DTSTART;TZID=America/Chicago:20240324T140000
DTEND;TZID=America/Chicago:20240324T153000
DTSTAMP:20260420T195223
CREATED:20231228T152016Z
LAST-MODIFIED:20231228T152016Z
UID:10000007-1711288800-1711294200@br-na.org
SUMMARY:Area Service Committee Meeting
DESCRIPTION:
URL:https://br-na.org/event/area-service-committee-meeting-4/
LOCATION:Grace Baptist Church\, 630 Richland Avenue\, Baton Rouge\, LA\, 70806\, United States
END:VEVENT
BEGIN:VEVENT
DTSTART;TZID=America/Chicago:20240225T140000
DTEND;TZID=America/Chicago:20240225T153000
DTSTAMP:20260420T195223
CREATED:20231228T151527Z
LAST-MODIFIED:20231228T153319Z
UID:10000005-1708869600-1708875000@br-na.org
SUMMARY:Area Service Committee Meeting
DESCRIPTION:
URL:https://br-na.org/event/area-service-committee-meeting-2/
LOCATION:Grace Baptist Church\, 630 Richland Avenue\, Baton Rouge\, LA\, 70806\, United States
END:VEVENT
BEGIN:VEVENT
DTSTART;TZID=America/Chicago:20240128T140000
DTEND;TZID=America/Chicago:20240128T153000
DTSTAMP:20260420T195223
CREATED:20231228T151415Z
LAST-MODIFIED:20231228T151415Z
UID:10000004-1706450400-1706455800@br-na.org
SUMMARY:Area Service Committee Meeting
DESCRIPTION:
URL:https://br-na.org/event/area-service-committee-meeting/
LOCATION:Grace Baptist Church\, 630 Richland Avenue\, Baton Rouge\, LA\, 70806\, United States
END:VEVENT
BEGIN:VEVENT
DTSTART;TZID=America/Chicago:20240106T083000
DTEND;TZID=America/Chicago:20240107T170000
DTSTAMP:20260420T195223
CREATED:20231216T223551Z
LAST-MODIFIED:20231216T223551Z
UID:10000003-1704529800-1704646800@br-na.org
SUMMARY:Louisiana Region Service Committee Mtg
DESCRIPTION:Jan 2024 Region Flyer
URL:https://br-na.org/event/louisiana-region-service-committee-mtg/
LOCATION:Gethsame Lutheran Church\, 2825 Parish Rd\, Chalmette\, LA\, 70043\, United States
END:VEVENT
BEGIN:VEVENT
DTSTART;TZID=America/Chicago:20231228T140000
DTEND;TZID=America/Chicago:20231228T153000
DTSTAMP:20260420T195223
CREATED:20231228T151611Z
LAST-MODIFIED:20231228T151611Z
UID:10000006-1703772000-1703777400@br-na.org
SUMMARY:Area Service Committee Meeting
DESCRIPTION:
URL:https://br-na.org/event/area-service-committee-meeting-3/
LOCATION:Grace Baptist Church\, 630 Richland Avenue\, Baton Rouge\, LA\, 70806\, United States
END:VEVENT
BEGIN:VEVENT
DTSTART;TZID=America/Chicago:20231217T140000
DTEND;TZID=America/Chicago:20231217T153000
DTSTAMP:20260420T195223
CREATED:20231202T164511Z
LAST-MODIFIED:20231202T164511Z
UID:10000002-1702821600-1702827000@br-na.org
SUMMARY:Bayou Area Service Committee Mtg
DESCRIPTION:
URL:https://br-na.org/event/bayou-area-service-committee-mtg/
LOCATION:Grace Baptist Church\, 630 Richland Avenue\, Baton Rouge\, LA\, 70806\, United States
END:VEVENT
BEGIN:VEVENT
DTSTART;TZID=America/Chicago:20221023T130000
DTEND;TZID=America/Chicago:20221023T140000
DTSTAMP:20260420T195223
CREATED:20220912T220354Z
LAST-MODIFIED:20220912T220537Z
UID:10000001-1666530000-1666533600@br-na.org
SUMMARY:Bayou Recovery PR Meeting
DESCRIPTION:
URL:https://br-na.org/event/bayou-recovery-pr-meeting/
LOCATION:Grace Baptist Church\, 630 Richland Avenue\, Baton Rouge\, LA\, 70806\, United States
END:VEVENT
END:VCALENDAR