BEGIN:VCALENDAR
VERSION:2.0
PRODID:-//Bayou Recovery Area of Narcotics Anonymous - ECPv6.15.15//NONSGML v1.0//EN
CALSCALE:GREGORIAN
METHOD:PUBLISH
X-WR-CALNAME:Bayou Recovery Area of Narcotics Anonymous
X-ORIGINAL-URL:https://br-na.org
X-WR-CALDESC:Events for Bayou Recovery Area of Narcotics Anonymous
REFRESH-INTERVAL;VALUE=DURATION:PT1H
X-Robots-Tag:noindex
X-PUBLISHED-TTL:PT1H
BEGIN:VTIMEZONE
TZID:America/Chicago
BEGIN:DAYLIGHT
TZOFFSETFROM:-0600
TZOFFSETTO:-0500
TZNAME:CDT
DTSTART:20240310T080000
END:DAYLIGHT
BEGIN:STANDARD
TZOFFSETFROM:-0500
TZOFFSETTO:-0600
TZNAME:CST
DTSTART:20241103T070000
END:STANDARD
BEGIN:DAYLIGHT
TZOFFSETFROM:-0600
TZOFFSETTO:-0500
TZNAME:CDT
DTSTART:20250309T080000
END:DAYLIGHT
BEGIN:STANDARD
TZOFFSETFROM:-0500
TZOFFSETTO:-0600
TZNAME:CST
DTSTART:20251102T070000
END:STANDARD
BEGIN:DAYLIGHT
TZOFFSETFROM:-0600
TZOFFSETTO:-0500
TZNAME:CDT
DTSTART:20260308T080000
END:DAYLIGHT
BEGIN:STANDARD
TZOFFSETFROM:-0500
TZOFFSETTO:-0600
TZNAME:CST
DTSTART:20261101T070000
END:STANDARD
END:VTIMEZONE
BEGIN:VEVENT
DTSTART;TZID=America/Chicago:20251115T190000
DTEND;TZID=America/Chicago:20251115T220000
DTSTAMP:20260420T135958
CREATED:20250629T210318Z
LAST-MODIFIED:20250629T210318Z
UID:10000161-1763233200-1763244000@br-na.org
SUMMARY:GBR Area Sponsorship Banquet
DESCRIPTION:
URL:https://br-na.org/event/gbr-area-sponsorship-banquet/
LOCATION:MLK Center\, 4000 Gus Young Ave\, Baton Rouge\, LA\, 70802\, United States
END:VEVENT
BEGIN:VEVENT
DTSTART;TZID=America/Chicago:20251123T153000
DTEND;TZID=America/Chicago:20251123T170000
DTSTAMP:20260420T135958
CREATED:20250823T204148Z
LAST-MODIFIED:20250825T162350Z
UID:10000187-1763911800-1763917200@br-na.org
SUMMARY:Area Service Committee Meeting
DESCRIPTION:
URL:https://br-na.org/event/area-service-committee-meeting-23/
LOCATION:Grace Baptist Church\, 630 Richland Avenue\, Baton Rouge\, LA\, 70806\, United States
END:VEVENT
BEGIN:VEVENT
DTSTART;TZID=America/Chicago:20251126T190000
DTEND;TZID=America/Chicago:20251126T200000
DTSTAMP:20260420T135958
CREATED:20250720T011947Z
LAST-MODIFIED:20250720T012443Z
UID:10000169-1764183600-1764187200@br-na.org
SUMMARY:LRCNA XLII Program Committee Mtgs via Zoom
DESCRIPTION:
URL:https://br-na.org/event/lrcna-xlii-program-committee-mtgs-via-zoom/2025-11-26/
LOCATION:Mtg Id: 6986865754 Pass hopeshot\, United States
END:VEVENT
END:VCALENDAR